BEGIN:VCALENDAR
VERSION:2.0
PRODID:-//Tukios.com/
BEGIN:VEVENT
UID:d97df221-a503-4b75-82a7-d14e8bd4dc3a@www.garrisonthompson.com
DTSTAMP:20260419T155734Z
DTSTART:20260420T160000Z
DTEND:20260420T170000Z
SUMMARY:Memorial Service
DESCRIPTION:
URL:https://www.garrisonthompson.com/obituaries/amanda-white
LOCATION:Thompson Funeral Home 48 N.E. 3RD  Garrison ND 58540
GEO:47.6521336;-101.4125276
END:VEVENT
END:VCALENDAR