BEGIN:VCALENDAR
VERSION:2.0
PRODID:-//Tukios.com/
BEGIN:VEVENT
UID:18dd1bad-ed83-4641-b180-dc1245d2e1c1@www.garrisonthompson.com
DTSTAMP:20260422T222209Z
DTSTART:20260424T210000Z
DTEND:20260424T230000Z
SUMMARY:Visitation
DESCRIPTION:
URL:https://www.garrisonthompson.com/obituaries/betty-iglehart
LOCATION:St. Paul Lutheran Church 622 5th Avenue Northeast  Garrison ND 
	58540
GEO:47.6582908;-101.4084378
END:VEVENT
END:VCALENDAR