BEGIN:VCALENDAR
VERSION:2.0
PRODID:-//Tukios.com/
BEGIN:VEVENT
UID:55d5cded-7201-4e36-8c01-03d63ee05aa3@www.garrisonthompson.com
DTSTAMP:20260422T222015Z
DTSTART:20260425T153000Z
DTEND:20260425T163000Z
SUMMARY:Funeral Service
DESCRIPTION:
URL:https://www.garrisonthompson.com/obituaries/betty-iglehart
LOCATION:St. Paul Lutheran Church 622 5th Avenue Northeast  Garrison ND 
	58540
GEO:47.6582908;-101.4084378
END:VEVENT
END:VCALENDAR