BEGIN:VCALENDAR
VERSION:2.0
PRODID:-//Tukios.com/
BEGIN:VEVENT
UID:669774d0-1acc-46e3-989b-542951feabd9@www.garrisonthompson.com
DTSTAMP:20260422T222127Z
DTSTART:20260424T230000Z
DTEND:20260425T000000Z
SUMMARY:Family and Friends Service
DESCRIPTION:
URL:https://www.garrisonthompson.com/obituaries/betty-iglehart
LOCATION: 622 5th Avenue Northeast  Garrison ND 58540
GEO:47.6582908;-101.4084378
END:VEVENT
END:VCALENDAR